BEGIN:VCALENDAR
VERSION:2.0
PRODID:-//eventon.com NONSGML v1.0//EN
CALSCALE:GREGORIAN
METHOD:PUBLISH
BEGIN:VEVENT
UID:69e5f02625821
DTSTAMP:20260420T092142Z
DTSTART:20250514T070000Z
DTEND:20250514T120000Z
LOCATION:Pistas de Educatrafic Cam. las Moreras\,  201\,  50190 Zaragoza
SUMMARY:III JORNADA PREVENTIVA SOBRE SEGURIDAD VIAL. ZARAGOZA
DESCRIPTION:El objetivo de esta jornada es abordar las posibles situacione
 s de riesgo que se pueden dar en los desplazamientos al trabajo (in itinere
 ) y durante el trabajo (en misión) y conocer las estrategias más efectiva
 s para evitarlas o minimizarlas. Es una formación específica\,  impartida
  por Educatrafic\,  sobre conducción en situaciones de[..]\nhttps://prlugt
 aragon.org/events/iii-jornada-preventiva-sobre-seguridad-vial-zaragoza/
URL:https://prlugtaragon.org/events/iii-jornada-preventiva-sobre-seguridad-vial-zaragoza/
END:VEVENT
END:VCALENDAR